BEGIN:VCALENDAR
VERSION:2.0
PRODID:-//Naptosa - ECPv6.15.20//NONSGML v1.0//EN
CALSCALE:GREGORIAN
METHOD:PUBLISH
X-ORIGINAL-URL:https://naptosa.org.za
X-WR-CALDESC:Events for Naptosa
REFRESH-INTERVAL;VALUE=DURATION:PT1H
X-Robots-Tag:noindex
X-PUBLISHED-TTL:PT1H
BEGIN:VTIMEZONE
TZID:Africa/Johannesburg
BEGIN:STANDARD
TZOFFSETFROM:+0200
TZOFFSETTO:+0200
TZNAME:SAST
DTSTART:20250101T000000
END:STANDARD
END:VTIMEZONE
BEGIN:VEVENT
DTSTART;VALUE=DATE:20260801
DTEND;VALUE=DATE:20260802
DTSTAMP:20260424T102046
CREATED:20260317T110333Z
LAST-MODIFIED:20260317T110333Z
UID:987611385-1785542400-1785628799@naptosa.org.za
SUMMARY:N West Conf
DESCRIPTION:
URL:https://naptosa.org.za/event/n-west-conf/
END:VEVENT
BEGIN:VEVENT
DTSTART;VALUE=DATE:20260804
DTEND;VALUE=DATE:20260805
DTSTAMP:20260424T102046
CREATED:20260317T110352Z
LAST-MODIFIED:20260317T110352Z
UID:987611387-1785801600-1785887999@naptosa.org.za
SUMMARY:Youth Comm
DESCRIPTION:
URL:https://naptosa.org.za/event/youth-comm-2/
END:VEVENT
BEGIN:VEVENT
DTSTART;VALUE=DATE:20260805
DTEND;VALUE=DATE:20260806
DTSTAMP:20260424T102046
CREATED:20260317T110424Z
LAST-MODIFIED:20260317T110424Z
UID:987611389-1785888000-1785974399@naptosa.org.za
SUMMARY:MEM Port Com
DESCRIPTION:
URL:https://naptosa.org.za/event/mem-port-com/
END:VEVENT
BEGIN:VEVENT
DTSTART;VALUE=DATE:20260806
DTEND;VALUE=DATE:20260807
DTSTAMP:20260424T102046
CREATED:20260317T110457Z
LAST-MODIFIED:20260317T110457Z
UID:987611391-1785974400-1786060799@naptosa.org.za
SUMMARY:Portcom COS
DESCRIPTION:
URL:https://naptosa.org.za/event/portcom-cos-2/
END:VEVENT
BEGIN:VEVENT
DTSTART;VALUE=DATE:20260807
DTEND;VALUE=DATE:20260808
DTSTAMP:20260424T102046
CREATED:20260317T110527Z
LAST-MODIFIED:20260317T110527Z
UID:987611393-1786060800-1786147199@naptosa.org.za
SUMMARY:GP Conf
DESCRIPTION:
URL:https://naptosa.org.za/event/gp-conf/
END:VEVENT
BEGIN:VEVENT
DTSTART;VALUE=DATE:20260809
DTEND;VALUE=DATE:20260810
DTSTAMP:20260424T102046
CREATED:20260317T110558Z
LAST-MODIFIED:20260317T110558Z
UID:987611395-1786233600-1786319999@naptosa.org.za
SUMMARY:Women’s Day
DESCRIPTION:
URL:https://naptosa.org.za/event/womens-day/
END:VEVENT
BEGIN:VEVENT
DTSTART;VALUE=DATE:20260810
DTEND;VALUE=DATE:20260811
DTSTAMP:20260424T102046
CREATED:20260317T110632Z
LAST-MODIFIED:20260317T110632Z
UID:987611397-1786320000-1786406399@naptosa.org.za
SUMMARY:Public Holiday
DESCRIPTION:
URL:https://naptosa.org.za/event/public-holiday/
END:VEVENT
BEGIN:VEVENT
DTSTART;VALUE=DATE:20260811
DTEND;VALUE=DATE:20260812
DTSTAMP:20260424T102046
CREATED:20260317T110812Z
LAST-MODIFIED:20260317T110812Z
UID:987611399-1786406400-1786492799@naptosa.org.za
SUMMARY:Portcom DHET
DESCRIPTION:
URL:https://naptosa.org.za/event/portcom-dhet-2/
END:VEVENT
BEGIN:VEVENT
DTSTART;VALUE=DATE:20260812
DTEND;VALUE=DATE:20260813
DTSTAMP:20260424T102046
CREATED:20260317T110956Z
LAST-MODIFIED:20260317T110956Z
UID:987611401-1786492800-1786579199@naptosa.org.za
SUMMARY:Nat HRes Meeting Virtual
DESCRIPTION:
URL:https://naptosa.org.za/event/nat-hres-meeting-virtual/
END:VEVENT
BEGIN:VEVENT
DTSTART;VALUE=DATE:20260813
DTEND;VALUE=DATE:20260814
DTSTAMP:20260424T102046
CREATED:20260317T111539Z
LAST-MODIFIED:20260317T111539Z
UID:987611403-1786579200-1786665599@naptosa.org.za
SUMMARY:Portcom ProfM
DESCRIPTION:
URL:https://naptosa.org.za/event/portcom-profm/
END:VEVENT
BEGIN:VEVENT
DTSTART;VALUE=DATE:20260815
DTEND;VALUE=DATE:20260816
DTSTAMP:20260424T102046
CREATED:20260317T111605Z
LAST-MODIFIED:20260317T111605Z
UID:987611405-1786752000-1786838399@naptosa.org.za
SUMMARY:F State Conf
DESCRIPTION:
URL:https://naptosa.org.za/event/f-state-conf/
END:VEVENT
BEGIN:VEVENT
DTSTART;VALUE=DATE:20260817
DTEND;VALUE=DATE:20260818
DTSTAMP:20260424T102046
CREATED:20260317T111654Z
LAST-MODIFIED:20260317T111654Z
UID:987611407-1786924800-1787011199@naptosa.org.za
SUMMARY:Portcom SPE
DESCRIPTION:
URL:https://naptosa.org.za/event/portcom-spe-2/
END:VEVENT
BEGIN:VEVENT
DTSTART;VALUE=DATE:20260822
DTEND;VALUE=DATE:20260823
DTSTAMP:20260424T102046
CREATED:20260317T111713Z
LAST-MODIFIED:20260317T111713Z
UID:987611410-1787356800-1787443199@naptosa.org.za
SUMMARY:W Cape Conf
DESCRIPTION:
URL:https://naptosa.org.za/event/w-cape-conf/
END:VEVENT
BEGIN:VEVENT
DTSTART;VALUE=DATE:20260829
DTEND;VALUE=DATE:20260830
DTSTAMP:20260424T102046
CREATED:20260317T111758Z
LAST-MODIFIED:20260317T111758Z
UID:987611412-1787961600-1788047999@naptosa.org.za
SUMMARY:E Cape Conf
DESCRIPTION:
URL:https://naptosa.org.za/event/e-cape-conf/
END:VEVENT
END:VCALENDAR